BEGIN:VCALENDAR
VERSION:2.0
PRODID:-//Landscape Trust Events - ECPv6.15.0.1//NONSGML v1.0//EN
CALSCALE:GREGORIAN
METHOD:PUBLISH
X-ORIGINAL-URL:https://events.landscapetrust.org.uk
X-WR-CALDESC:Events for Landscape Trust Events
REFRESH-INTERVAL;VALUE=DURATION:PT1H
X-Robots-Tag:noindex
X-PUBLISHED-TTL:PT1H
BEGIN:VTIMEZONE
TZID:Europe/London
BEGIN:DAYLIGHT
TZOFFSETFROM:+0000
TZOFFSETTO:+0100
TZNAME:BST
DTSTART:20190331T010000
END:DAYLIGHT
BEGIN:STANDARD
TZOFFSETFROM:+0100
TZOFFSETTO:+0000
TZNAME:GMT
DTSTART:20191027T010000
END:STANDARD
END:VTIMEZONE
BEGIN:VEVENT
DTSTART;TZID=Europe/London:20190728T133000
DTEND;TZID=Europe/London:20190728T163000
DTSTAMP:20260421T123251
CREATED:20190414T173310Z
LAST-MODIFIED:20190704T153225Z
UID:1097-1564320600-1564331400@events.landscapetrust.org.uk
SUMMARY:W6 – The Secrets of Silverdale (RESCHEDULED)
DESCRIPTION:This rescheduled walk was originally planned for Saturday 8th June but was postponed owing to bad weather.  The leader\, Ann Turnbull\, has kindly offered to reschedule the event to Sunday 28th July\, starting at 1:30pm and lasting approximately 3 hours. \nLandscape Trust member\, Ann Turnbull\, has lived in Silverdale for 45 years and has lots of local knowledge. \n\n\n\nAnn will lead an amended version of the previous Secrets of Silverdale walk held in 2017\, including a walk across the sands to Gibralter Farm\, hearing history of the seaward part of the village. This will be followed by an exploration of the southern area of Silverdale. \n\n\n\nFeatures on the walk include views over Morecambe Bay\, disappearing salt-marsh\, coastal rocks and fossils\, maritime and village history. \n\n\n\n\n\nThis walk is suitable for well-behaved dogs on leads. \n\n\n\nAs the number of participants is limited to 20\, booking is essential. Preferential booking is being offered to those who signed up for the originally scheduled walk\, so if you had a place on that walk and have not already done so\, please claim your reserved place by Monday 8th July. Any places still remaining thereafter will be opened for general booking. \nTo request places on this walk\, please email bookings@landscapetrust.org.uk\, giving the name and contact details of each participant\, and indicating whether or not they are members of the Landscape Trust.
URL:https://events.landscapetrust.org.uk/event/w6-the-secrets-of-silverdale-2/
CATEGORIES:Walk
ATTACH;FMTTYPE=image/jpeg:https://events.landscapetrust.org.uk/wp-content/uploads/2019/04/Silverdale-Shore-walk.jpg
END:VEVENT
BEGIN:VEVENT
DTSTART;TZID=Europe/London:20190723T100000
DTEND;TZID=Europe/London:20190723T120000
DTSTAMP:20260421T123251
CREATED:20190612T090719Z
LAST-MODIFIED:20190722T125642Z
UID:784-1563876000-1563883200@events.landscapetrust.org.uk
SUMMARY:W9 - Fell End Nature Reserve
DESCRIPTION:A walk by Chris Winnick. \nChris will lead a visit to the AONB’s newest reserve\, at Fell End Caravan Park\, looking at the butterflies and other wildlife on the reserve as well as explaining its management. Fell End is a compact but highly diverse reserve\, consisting of a mix of ancient broad-leaf woodland\, limestone pavement and wetlands.  It is managed for wildlife generally\, although with a particular emphasis on providing nest sites for birds such as Lapwing and Curlew\, which are in decline nationally\, largely as a consequence of changes in agricultural practice. \nThe walk will begin at 10:00am and last approximately 2 hours and is suitable for all ages. It will involve easy walking of less than a mile over level ground on rough tracks. You are advised to bring waterproofs and wear stout footwear. \nThe reserve includes two hides overlooking a wetland area\, so you may wish to bring binoculars with you so that you can spend some time bird-watching after the event. \nSorry\, but dogs are not permitted on the reserve.
URL:https://events.landscapetrust.org.uk/event/w10-fell-end-nature-reserve/
CATEGORIES:Walk
ATTACH;FMTTYPE=image/jpeg:https://events.landscapetrust.org.uk/wp-content/uploads/2019/06/Fell-End-John-Wilson-Hide.jpg
END:VEVENT
BEGIN:VEVENT
DTSTART;TZID=Europe/London:20190709T103000
DTEND;TZID=Europe/London:20190709T143000
DTSTAMP:20260421T123251
CREATED:20190612T091213Z
LAST-MODIFIED:20190708T220522Z
UID:780-1562668200-1562682600@events.landscapetrust.org.uk
SUMMARY:W8 – Managing for Butterflies on Arnside Knott
DESCRIPTION:A walk by Chris Winnick.\n\nChris is well known as Chair of the Arnside and District Natural History Society.  He is also a Trustee of Butterfly Conservation and Chair of BC’s Cumbria Branch.\n\nHe will lead a walk over Arnside Knott looking at the butterflies and how the site is managed for priority species\, such as the High Brown Fritillary\, which hopefully will be in flight on the day.  Scotch Argus is another scarce species which breeds on Arnside Knott\, although this walk will probably be a little too early in the season to see any.\n\nThe walk will begin at 10:30am and take approximately 4 hours.  It will involve the ascent and descent of some steep terrain over ground that is rough in places.  Bring packed lunch\, walking boots\, drink\, waterproofs\, sun hat\, etc.\n\n\nSorry\, but dogs are not permitted on this walk.
URL:https://events.landscapetrust.org.uk/event/w8-managing-for-butterflies-on-arnside-knott/
CATEGORIES:Walk
ATTACH;FMTTYPE=image/jpeg:https://events.landscapetrust.org.uk/wp-content/uploads/2019/06/High-Brown-Steve-Cholds.jpg
END:VEVENT
BEGIN:VEVENT
DTSTART;TZID=Europe/London:20190629T133000
DTEND;TZID=Europe/London:20190629T160000
DTSTAMP:20260421T123251
CREATED:20190415T120542Z
LAST-MODIFIED:20190613T214715Z
UID:402-1561815000-1561824000@events.landscapetrust.org.uk
SUMMARY:W7 – Recording the Visual Landscape (A Personal Sketchbook)
DESCRIPTION:  \n\n\n\n\n\nA walk with a difference by Suzanne Swinson. \n\n\n\nThis is a walk with a difference in that participants will each be invited to create a personal sketchbook of the walk\, exploring the area around Far Arnside\, examining and recording geological features and landscapes from modern to medieval. No artistic skills are required! \n\n\n\nIn the distant past Suzanne was a geographer and later went on to take a geology and environmental science degree through the OU. She is interested in how the landscapes of today can tell stories about the past. \n\n\n\nThe walk is 3.5 miles in length\, with some gentle ascents. Some paths are narrow\, uneven and possibly slippery. The event should finish by 4:00 pm. \n\n\n\nPlease note that dogs are not permitted on this walk. \n\n\n\nAs the number of participants is limited to 16\, booking is essential.  \nTo Book: \nOn-line booking through the website is not available for this event but there are still a few places left. To book on this event\, please email bookings@landscapetrust.org.uk\, giving the walk code W7\, together with name of each person attending\, their email address and contact telephone number\, and state whether or not they are Landscape Trust members.  If you also wish to book on other events at the same time\, you are welcome to include all of your bookings in a single email. \nPlease note that this event is primarily intended for members of the Landscape Trust.  Non-members are welcome to attend but we would appreciate a donation of £5 per adult wishing to take part.      \n\n\n\n\n\n\n\n\n\n\n\n 
URL:https://events.landscapetrust.org.uk/event/w7-recording-the-visual-landscape-a-personal-sketchbook/
CATEGORIES:Walk
ATTACH;FMTTYPE=image/jpeg:https://events.landscapetrust.org.uk/wp-content/uploads/2019/04/field-sketch.jpg
END:VEVENT
BEGIN:VEVENT
DTSTART;TZID=Europe/London:20190608T100000
DTEND;TZID=Europe/London:20190608T130000
DTSTAMP:20260421T123251
CREATED:20190414T173310Z
LAST-MODIFIED:20190423T144154Z
UID:386-1559988000-1559998800@events.landscapetrust.org.uk
SUMMARY:W6 – The Secrets of Silverdale
DESCRIPTION:This walk will be led by Landscape Trust member\, Ann Turnbull\, who has lived in Silverdale for 45 years and has a lot of local knowledge. \n\n\n\nAnn will lead an amended version of the previous Secrets of Silverdale walk held in 2017\, including a walk across the sands to Gibralter Farm\, hearing history of the seaward part of the village. This will be followed by an exploration of the southern area of Silverdale\, finishing at The Wolfhouse\, where lunch will be available in the cafe\, if required. \n\n\n\nFeatures on the walk include views over Morecambe Bay\, disappearing salt-marsh\, coastal rocks and fossils\, maritime and village history. \n\n\n\nNumbers will be taken before the start of the walk to reserve tables for lunch at The Wolfhouse Cafe. \n\n\n\nThis walk is suitable for well-behaved dogs on leads. \n\n\n\nAs the number of participants is limited to 20\, booking is essential.
URL:https://events.landscapetrust.org.uk/event/w6-the-secrets-of-silverdale/
CATEGORIES:Walk
ATTACH;FMTTYPE=image/jpeg:https://events.landscapetrust.org.uk/wp-content/uploads/2019/04/Silverdale-Shore-walk.jpg
END:VEVENT
BEGIN:VEVENT
DTSTART;TZID=Europe/London:20190601T100000
DTEND;TZID=Europe/London:20190601T123000
DTSTAMP:20260421T123251
CREATED:20190415T120116Z
LAST-MODIFIED:20190417T143220Z
UID:400-1559383200-1559392200@events.landscapetrust.org.uk
SUMMARY:W5 – Gait Barrows in all its Aspects
DESCRIPTION:A Walk by Mike & Jean Warren. \n\n\n\nPlease note that dogs are not permitted on this walk. \n\n\n\nThis is a general walk enjoying the flora\, fauna and landscape of Gait Barrows National Nature Reserve\, hopefully taking in the Lady’s-slipper orchid and possibly Duke of Burgundy butterfly. It is being led by Mike and Jean Warren who are keen natural historians and have led many walks in the past. The walk is 3.5 to 4 miles in length\, mainly level with some rocky paths\, and will explore various permitted paths within the reserve. The event should finish by 12.30pm. \n\n\n\n\n\nLady’s-slipper Orchid\n\n\n\n\n\nAs the number of participants is limited to 20\, booking is essential
URL:https://events.landscapetrust.org.uk/event/w5-gait-barrows-in-all-its-aspects/
CATEGORIES:Walk
ATTACH;FMTTYPE=image/jpeg:https://events.landscapetrust.org.uk/wp-content/uploads/2019/04/Gait-Barrows-Mike-Warren.jpg
END:VEVENT
BEGIN:VEVENT
DTSTART;TZID=Europe/London:20190518T100000
DTEND;TZID=Europe/London:20190518T130000
DTSTAMP:20260421T123251
CREATED:20190313T171138Z
LAST-MODIFIED:20190513T170104Z
UID:234-1558173600-1558184400@events.landscapetrust.org.uk
SUMMARY:W4 - Bird Migration and other Natural History in South Silverdale
DESCRIPTION:A Field Trip by Jill and John Webb.\n\n\n\nThe leaders of this walk\, John and Jill Webb\, are active members of Arnside and District Natural History Society. Jill is one of the Society’s Botany Recorders\, with Jack Scout as part of her recording area. John’s primary interest is birds; his local survey work includes recording at Jenny Brown’s Point for the national Wetland Bird Survey. \n\n\n\nThe primary focus of the walk will be migratory birds\, including warblers on the National Trust properties and wetland birds on the estuary. The route passes through some botanically rich areas and it is possible other wildlife will be encountered. A high tide of 9.4 metres is predicted at 11:45. \n\n\n\nThe circular walk is about 2 miles long\, visiting Jack Scout\, Jenny Brown’s Point and Heald Brow. It is mainly easy ground but there is difficult terrain below Brown’s Houses\, and some rocks which can be very slippery when wet. The event will finish at approximately 1:00pm. \n\n\n\nDogs are not permitted on this walk. \n\n\n\nAs the number of participants is limited to 12\, booking is essential. To book\, please email bookings@landscapetrust.org.uk\, giving walk reference W4\, name and contact details for each attendee (including telephone number in case of last minute alteration or cancellation) and indicate whether or not they are members of the Landscape Trust.
URL:https://events.landscapetrust.org.uk/event/bird-migration-and-other-natural-history-in-south-silverdale/
CATEGORIES:Walk
ATTACH;FMTTYPE=image/jpeg:https://events.landscapetrust.org.uk/wp-content/uploads/2019/03/Chichchaff_Silverdale_640.jpg
END:VEVENT
END:VCALENDAR